BEGIN:VCALENDAR
VERSION:2.0
PRODID:-//Squarespace Inc/Squarespace 6//v6//EN
BEGIN:VEVENT
UID:5b88c32ab8a0457103341a03@squarespace.com
DTSTAMP:20181001T224058Z
DTSTART:20181005T170000Z
DTEND:20181005T200000Z
SUMMARY:Applications and Interviews - Presenting your case
GEO:-35.312444;149.132566
LOCATION:Yellow Edge\, 9 Sydney Avenue\, Forrest\, ACT\, 2603\, Australia
END:VEVENT
END:VCALENDAR
