BEGIN:VCALENDAR
VERSION:2.0
PRODID:-//Squarespace Inc/Squarespace 6//v6//EN
BEGIN:VEVENT
UID:5af24b99f950b7dc718ac024@squarespace.com
DTSTAMP:20180831T071821Z
DTSTART:20180801T122000Z
DTEND:20180802T213000Z
SUMMARY:High Performance Hack 
GEO:-35.312444;149.132566
LOCATION:Australian Leadership Innnovation Centre\, Level 2/ 9 Sydney Avenu
 e\, Barton\, ACT\, Australia
END:VEVENT
END:VCALENDAR
