BEGIN:VCALENDAR
VERSION:2.0
PRODID:-//Squarespace Inc/Squarespace 6//v6//EN
BEGIN:VEVENT
UID:5ba1b298562fa7a53e8c5748@squarespace.com
DTSTAMP:20181002T012423Z
DTSTART:20181030T193000Z
DTEND:20181030T213000Z
SUMMARY:An afternoon with HBDI CEO\, Michael Morgan
GEO:-35.312444;149.132566
LOCATION:Yellow Edge\, Level 2\, 9 Sydney Avenue\, Barton\, ACT
END:VEVENT
END:VCALENDAR
