BEGIN:VCALENDAR
VERSION:2.0
PRODID:-//Squarespace Inc/Squarespace 6//v6//EN
BEGIN:VEVENT
UID:5af987fd1ae6cfd839eff5e0@squarespace.com
DTSTAMP:20180515T012609Z
DTSTART:20180524T170000Z
DTEND:20180524T180000Z
SUMMARY:Challenges in the US Civil Service in the Trump Era
GEO:-35.312444;149.132566
LOCATION:Yellow Edge\, Level 2\, 9 Sydney Avenue\, Barton\, Australia
END:VEVENT
END:VCALENDAR
