BEGIN:VCALENDAR
VERSION:2.0
PRODID:-//Squarespace Inc/Squarespace 6//v6//EN
BEGIN:VEVENT
UID:5c19b37a352f533268b62329@squarespace.com
DTSTAMP:20181219T030656Z
DTSTART:20181220T220000Z
DTEND:20190106T230000Z
SUMMARY:Summer Break
END:VEVENT
END:VCALENDAR
