BEGIN:VCALENDAR
VERSION:2.0
PRODID:-//Squarespace Inc/Squarespace 6//v6//EN
BEGIN:VEVENT
UID:592e4b099de4bb6e73d6afd2@squarespace.com
DTSTAMP:20170531T045525Z
DTSTART:20170929T160000Z
DTEND:20170929T180000Z
SUMMARY:WPP Canberra Connect
GEO:-35.312442;149.132688
LOCATION:Yellow Edge\, 8/9 Sydney Avenue\, Barton\, ACT\, 2600\, Australia
END:VEVENT
END:VCALENDAR
