BEGIN:VCALENDAR
VERSION:2.0
PRODID:-//Squarespace Inc/Squarespace 6//v6//EN
BEGIN:VEVENT
UID:59251d1ebebafbe34df6150a@squarespace.com
DTSTAMP:20170531T045228Z
DTSTART:20170918T130000Z
DTEND:20170923T210000Z
SUMMARY:International Residential Shanghai
GEO:31.193414;121.543829
LOCATION:CELAP\, 99\, Qian Cheng Lu\, Shanghai\, Shanghai Shi\, 201203\, Ch
 ina
END:VEVENT
END:VCALENDAR
