BEGIN:VCALENDAR
VERSION:2.0
PRODID:-//Squarespace Inc/Squarespace 6//v6//EN
BEGIN:VEVENT
UID:592e278fe6f2e11e077cac33@squarespace.com
DTSTAMP:20170531T041655Z
DTSTART:20170808T130000Z
DTEND:20170809T210000Z
SUMMARY:Coaching Skills for Leaders & Managers
GEO:-35.312442;149.132688
LOCATION:Yellow Edge\, Level 2\, 9 Sydney Avenue\, Barton\, ACT\, 2603\, Au
 stralia
END:VEVENT
END:VCALENDAR
