BEGIN:VCALENDAR
VERSION:2.0
PRODID:-//Squarespace Inc/Squarespace 6//v6//EN
BEGIN:VEVENT
UID:59251a5ebe6594520a4a39e1@squarespace.com
DTSTAMP:20170531T045214Z
DTSTART:20170831T130000Z
DTEND:20170902T210000Z
SUMMARY:Global Leadership Practices Primer- China
GEO:-35.312442;149.132688
LOCATION:Yellow Edge\, Level 2\, 9 Sydney Ave\, Barton Canberra\, Australia
END:VEVENT
END:VCALENDAR
