BEGIN:VCALENDAR
VERSION:2.0
PRODID:-//Squarespace Inc/Squarespace 6//v6//EN
BEGIN:VEVENT
UID:592e449e6b8f5bd5ceff3c81@squarespace.com
DTSTAMP:20170531T045157Z
DTSTART:20170609T130000Z
DTEND:20170609T140000Z
SUMMARY:WPP Canberra Connect
GEO:-35.312442;149.132688
LOCATION:Yellow Edge\, Level 2\, 9 Sydney Ave\, Barton Canberra\, Australia
END:VEVENT
END:VCALENDAR
