BEGIN:VCALENDAR
VERSION:2.0
PRODID:-//Squarespace Inc/Squarespace 6//v6//EN
BEGIN:VEVENT
UID:592e5003db29d6b2ff31704e@squarespace.com
DTSTAMP:20170602T004850Z
DTSTART:20170630T213000Z
DTEND:20170630T233000Z
SUMMARY:Moran Prize Touring Exhibiton
GEO:-35.236203;149.068018
LOCATION:Belconnen Arts Centre\, 118 Emu Bank\, Belconnen\, ACT\, 2617\, Au
 stralia
END:VEVENT
END:VCALENDAR
