BEGIN:VCALENDAR
VERSION:2.0
PRODID:-//Squarespace Inc/Squarespace 6//v6//EN
BEGIN:VEVENT
UID:592e3dc7db29d6b2ff30a3a4@squarespace.com
DTSTAMP:20170531T044744Z
DTSTART:20170628T213000Z
DTEND:20170628T230000Z
SUMMARY:IPAA ACT Mentoring Program
GEO:-35.312442;149.132688
LOCATION:Yellow Edge\, Level 2\, 9 Sydney Ave\, Barton Canberra\, Australia
END:VEVENT
END:VCALENDAR
