BEGIN:VCALENDAR
VERSION:2.0
PRODID:-//Squarespace Inc/Squarespace 6//v6//EN
BEGIN:VEVENT
UID:59508cf58419c2c56727fe79@squarespace.com
DTSTAMP:20170704T010953Z
DTSTART:20170724T163000Z
DTEND:20170724T200000Z
SUMMARY:YE Showcase
GEO:-35.312725;149.132405
LOCATION:Yellow Edge (Level 2)\, 9 Sydney Avenue\, Forrest\, ACT\, 2603\, A
 ustralia
END:VEVENT
END:VCALENDAR
