BEGIN:VCALENDAR
VERSION:2.0
PRODID:-//Squarespace Inc/Squarespace 6//v6//EN
BEGIN:VEVENT
UID:5940c9c2893fc04fe54ec7bf@squarespace.com
DTSTAMP:20170717T032241Z
DTSTART:20170815T123000Z
DTEND:20170815T160000Z
SUMMARY:Higher Education Marketing: leading in an environment of change
GEO:-37.820089;144.968129
LOCATION:Melbourne Arts Centre\, 100 Saint Kilda Road\, Southbank\, VIC\, 3
 006\, Australia
END:VEVENT
END:VCALENDAR
