BEGIN:VCALENDAR
VERSION:2.0
PRODID:-//Squarespace Inc/Squarespace 6//v6//EN
BEGIN:VEVENT
UID:59263f822e69cf7170221f8a@squarespace.com
DTSTAMP:20170531T045311Z
DTSTART:20171113T140000Z
DTEND:20171117T220000Z
SUMMARY:International Residential Banglore
GEO:12.839939;77.677003
LOCATION:Welingkar Institute Of Management\, Electronic City\, Bangalore\, 
 India
END:VEVENT
END:VCALENDAR
