BEGIN:VCALENDAR
VERSION:2.0
PRODID:-//Squarespace Inc/Squarespace 6//v6//EN
BEGIN:VEVENT
UID:59264c191e5b6c4ac206019d@squarespace.com
DTSTAMP:20170531T045319Z
DTSTART:20171201T140000Z
DTEND:20171201T183000Z
SUMMARY:Consolidation Session Canberra- India
GEO:-35.312725;149.132405
LOCATION:Yellow Edge\, 9 Sydney Avenue\, Forrest\, ACT\, 2603\, Australia
END:VEVENT
END:VCALENDAR
