BEGIN:VCALENDAR
VERSION:2.0
PRODID:-//Squarespace Inc/Squarespace 6//v6//EN
BEGIN:VEVENT
UID:59261c85197aea2527d7f4e5@squarespace.com
DTSTAMP:20170531T045300Z
DTSTART:20171102T130000Z
DTEND:20171105T220000Z
SUMMARY:Global Leadership Practices Primer- India
GEO:-35.312643;149.13251
LOCATION:Yellow Edge
END:VEVENT
END:VCALENDAR
