BEGIN:VCALENDAR
VERSION:2.0
PRODID:-//Squarespace Inc/Squarespace 6//v6//EN
BEGIN:VEVENT
UID:59f7d1760852294c311f6155@squarespace.com
DTSTAMP:20171031T231255Z
DTSTART:20171117T173000Z
DTEND:20171117T190000Z
SUMMARY:Getting the best our of your people - Lunchtime event
GEO:-35.312442;149.132688
LOCATION:Yellow Edge\, 9 Sydney Avenue\, Barton\, ACT\, 2600\, Australia
END:VEVENT
END:VCALENDAR
