BEGIN:VCALENDAR
VERSION:2.0
PRODID:-//Squarespace Inc/Squarespace 6//v6//EN
BEGIN:VEVENT
UID:59251fd329687fefaa3082a2@squarespace.com
DTSTAMP:20170531T045246Z
DTSTART:20171006T130000Z
DTEND:20171006T173000Z
SUMMARY:Consolidation Session Canberra- China
GEO:-35.312643;149.13251
LOCATION:Yellow Edge
END:VEVENT
END:VCALENDAR
